BEGIN:VCALENDAR
VERSION:2.0
PRODID:-//FLAT KS - ECPv6.15.20//NONSGML v1.0//EN
CALSCALE:GREGORIAN
METHOD:PUBLISH
X-WR-CALNAME:FLAT KS
X-ORIGINAL-URL:https://flatks.org
X-WR-CALDESC:Events for FLAT KS
REFRESH-INTERVAL;VALUE=DURATION:PT1H
X-Robots-Tag:noindex
X-PUBLISHED-TTL:PT1H
BEGIN:VTIMEZONE
TZID:America/Chicago
BEGIN:DAYLIGHT
TZOFFSETFROM:-0600
TZOFFSETTO:-0500
TZNAME:CDT
DTSTART:20220313T080000
END:DAYLIGHT
BEGIN:STANDARD
TZOFFSETFROM:-0500
TZOFFSETTO:-0600
TZNAME:CST
DTSTART:20221106T070000
END:STANDARD
BEGIN:DAYLIGHT
TZOFFSETFROM:-0600
TZOFFSETTO:-0500
TZNAME:CDT
DTSTART:20230312T080000
END:DAYLIGHT
BEGIN:STANDARD
TZOFFSETFROM:-0500
TZOFFSETTO:-0600
TZNAME:CST
DTSTART:20231105T070000
END:STANDARD
BEGIN:DAYLIGHT
TZOFFSETFROM:-0600
TZOFFSETTO:-0500
TZNAME:CDT
DTSTART:20240310T080000
END:DAYLIGHT
BEGIN:STANDARD
TZOFFSETFROM:-0500
TZOFFSETTO:-0600
TZNAME:CST
DTSTART:20241103T070000
END:STANDARD
END:VTIMEZONE
BEGIN:VEVENT
DTSTART;TZID=America/Chicago:20230617T120000
DTEND;TZID=America/Chicago:20230617T170000
DTSTAMP:20260425T211205
CREATED:20230524T214011Z
LAST-MODIFIED:20230524T214011Z
UID:2149-1687003200-1687021200@flatks.org
SUMMARY:Juneteenth
DESCRIPTION:Lawrence Juneteenth Celebration\nLest We Forget\nOn June 17\, 2023\, at 12:00pm\, we invite you to join us in celebration of our rich African American heritage. It will be a joyful\, uplifting time as we journey through the history of our lives and the impact we have made in America and our very own…
URL:https://flatks.org/event/juneteenth/
LOCATION:South Park\, 1141 Massachusetts S\, Lawrence\, 66045\, United States
ATTACH;FMTTYPE=image/jpeg:https://flatks.org/wp-content/uploads/2023/05/2023_juneteenth_800fc8b2-76a8-4209-851b-5cfd2626ea9d.jpg
END:VEVENT
END:VCALENDAR