BEGIN:VCALENDAR
VERSION:2.0
PRODID:-//FLAT KS - ECPv6.15.20//NONSGML v1.0//EN
CALSCALE:GREGORIAN
METHOD:PUBLISH
X-ORIGINAL-URL:https://flatks.org
X-WR-CALDESC:Events for FLAT KS
REFRESH-INTERVAL;VALUE=DURATION:PT1H
X-Robots-Tag:noindex
X-PUBLISHED-TTL:PT1H
BEGIN:VTIMEZONE
TZID:America/Chicago
BEGIN:DAYLIGHT
TZOFFSETFROM:-0600
TZOFFSETTO:-0500
TZNAME:CDT
DTSTART:20220313T080000
END:DAYLIGHT
BEGIN:STANDARD
TZOFFSETFROM:-0500
TZOFFSETTO:-0600
TZNAME:CST
DTSTART:20221106T070000
END:STANDARD
BEGIN:DAYLIGHT
TZOFFSETFROM:-0600
TZOFFSETTO:-0500
TZNAME:CDT
DTSTART:20230312T080000
END:DAYLIGHT
BEGIN:STANDARD
TZOFFSETFROM:-0500
TZOFFSETTO:-0600
TZNAME:CST
DTSTART:20231105T070000
END:STANDARD
BEGIN:DAYLIGHT
TZOFFSETFROM:-0600
TZOFFSETTO:-0500
TZNAME:CDT
DTSTART:20240310T080000
END:DAYLIGHT
BEGIN:STANDARD
TZOFFSETFROM:-0500
TZOFFSETTO:-0600
TZNAME:CST
DTSTART:20241103T070000
END:STANDARD
END:VTIMEZONE
BEGIN:VEVENT
DTSTART;TZID=America/Chicago:20230715T080000
DTEND;TZID=America/Chicago:20230715T110000
DTSTAMP:20260425T192559
CREATED:20230615T165633Z
LAST-MODIFIED:20230709T201126Z
UID:2155-1689408000-1689418800@flatks.org
SUMMARY:Lawrence Community Bike Ride
DESCRIPTION:Mark your calendars\, save the date\, and make plans now to attend the 2023 Lawrence Community Bike Ride Saturday\, July 15th from 8:00 – 11:00am. \n\nFive rides to choose from (or skip the group and ride anytime)\nFREE Helmets with complementary fittings\nBright Colored Ride Shirts (while supplies last)\n\nAll rides and festivities begin at the Lawrence Rotary Arboretum located at 27th and Wakarusa by the YSC Soccer Fields. \n(In the event of rain\, the event will be held Sunday\, July 16)
URL:https://flatks.org/event/lawrence-community-bike-ride-2/
LOCATION:Lawrence Rotary Arboretum Trailhead\, 27th and Waukarusa\, Lawrence\, 66047\, United States
ATTACH;FMTTYPE=image/png:https://flatks.org/wp-content/uploads/2022/06/bike-ride-logo600x400.png
END:VEVENT
END:VCALENDAR