BEGIN:VCALENDAR
VERSION:2.0
PRODID:-//FLAT KS - ECPv6.15.20//NONSGML v1.0//EN
CALSCALE:GREGORIAN
METHOD:PUBLISH
X-WR-CALNAME:FLAT KS
X-ORIGINAL-URL:https://flatks.org
X-WR-CALDESC:Events for FLAT KS
REFRESH-INTERVAL;VALUE=DURATION:PT1H
X-Robots-Tag:noindex
X-PUBLISHED-TTL:PT1H
BEGIN:VTIMEZONE
TZID:America/Chicago
BEGIN:DAYLIGHT
TZOFFSETFROM:-0600
TZOFFSETTO:-0500
TZNAME:CDT
DTSTART:20220313T080000
END:DAYLIGHT
BEGIN:STANDARD
TZOFFSETFROM:-0500
TZOFFSETTO:-0600
TZNAME:CST
DTSTART:20221106T070000
END:STANDARD
BEGIN:DAYLIGHT
TZOFFSETFROM:-0600
TZOFFSETTO:-0500
TZNAME:CDT
DTSTART:20230312T080000
END:DAYLIGHT
BEGIN:STANDARD
TZOFFSETFROM:-0500
TZOFFSETTO:-0600
TZNAME:CST
DTSTART:20231105T070000
END:STANDARD
BEGIN:DAYLIGHT
TZOFFSETFROM:-0600
TZOFFSETTO:-0500
TZNAME:CDT
DTSTART:20240310T080000
END:DAYLIGHT
BEGIN:STANDARD
TZOFFSETFROM:-0500
TZOFFSETTO:-0600
TZNAME:CST
DTSTART:20241103T070000
END:STANDARD
END:VTIMEZONE
BEGIN:VEVENT
DTSTART;TZID=America/Chicago:20231213T160000
DTEND;TZID=America/Chicago:20231213T180000
DTSTAMP:20260425T104829
CREATED:20231205T201248Z
LAST-MODIFIED:20231206T150547Z
UID:2625-1702483200-1702490400@flatks.org
SUMMARY:Open House for the Lawrence Loop: 7th Street to Constant Park Project
DESCRIPTION:FLAT is pleased that the City of Lawrence is formally engaged in planning efforts to finish the long-anticipated section of the Lawrence Loop through downtown! Here is your chance to provide input on this long-awaited project: \nOpen House for the Lawrence Loop: 7th Street to Constant Park Project\nCarnegie Building (200 W. 9th Street)\nWednesday\, December 13th\, 4pm – 6pm
URL:https://flatks.org/event/open-house-for-the-lawrence-loop-7th-street-to-constant-park-project/
LOCATION:Carnegie Building\, 200 W. 9th St.\, Lawrence\, KS\, 66044\, United States
ATTACH;FMTTYPE=image/jpeg:https://flatks.org/wp-content/uploads/2023/12/wp-event-update.jpg
END:VEVENT
END:VCALENDAR