BEGIN:VCALENDAR
VERSION:2.0
PRODID:-//FLAT KS - ECPv6.15.20//NONSGML v1.0//EN
CALSCALE:GREGORIAN
METHOD:PUBLISH
X-WR-CALNAME:FLAT KS
X-ORIGINAL-URL:https://flatks.org
X-WR-CALDESC:Events for FLAT KS
REFRESH-INTERVAL;VALUE=DURATION:PT1H
X-Robots-Tag:noindex
X-PUBLISHED-TTL:PT1H
BEGIN:VTIMEZONE
TZID:America/Chicago
BEGIN:DAYLIGHT
TZOFFSETFROM:-0600
TZOFFSETTO:-0500
TZNAME:CDT
DTSTART:20250309T080000
END:DAYLIGHT
BEGIN:STANDARD
TZOFFSETFROM:-0500
TZOFFSETTO:-0600
TZNAME:CST
DTSTART:20251102T070000
END:STANDARD
BEGIN:DAYLIGHT
TZOFFSETFROM:-0600
TZOFFSETTO:-0500
TZNAME:CDT
DTSTART:20260308T080000
END:DAYLIGHT
BEGIN:STANDARD
TZOFFSETFROM:-0500
TZOFFSETTO:-0600
TZNAME:CST
DTSTART:20261101T070000
END:STANDARD
BEGIN:DAYLIGHT
TZOFFSETFROM:-0600
TZOFFSETTO:-0500
TZNAME:CDT
DTSTART:20270314T080000
END:DAYLIGHT
BEGIN:STANDARD
TZOFFSETFROM:-0500
TZOFFSETTO:-0600
TZNAME:CST
DTSTART:20271107T070000
END:STANDARD
END:VTIMEZONE
BEGIN:VEVENT
DTSTART;TZID=America/Chicago:20260423T170000
DTEND;TZID=America/Chicago:20260423T200000
DTSTAMP:20260423T063148
CREATED:20260319T150324Z
LAST-MODIFIED:20260325T170156Z
UID:3629-1776963600-1776974400@flatks.org
SUMMARY:Trails That Connect Us
DESCRIPTION:There will be food trucks\, music\, and Free State Beer. \nWith bike valet parking\, FREE SAMPLE SIZE BEER. \nLocal organizations including:\n– Baker Wetlands\n– Friends of Lawrence Area Trails\n– Kansas Trails Inc\n– Haskell Cultural Center\n– Prairie Park Nature Center\n– Lawrence Bike Club\n– WildDouglas County\n– KU Natural History Museum\n– Lawrence Arts Center\n– Friends of the Kaw\n– And dozens more! \nLook for a couple of surprise activities. \n(Rain Date: Friday April 24)
URL:https://flatks.org/event/trails-that-connect-us-26/
LOCATION:Free State Brewing Company Bottling Facility\, 1927 Moodie Road\, Lawrence\, KS\, 66046\, United States
ATTACH;FMTTYPE=image/jpeg:https://flatks.org/wp-content/uploads/2026/03/WP-Event.jpg
END:VEVENT
END:VCALENDAR