BEGIN:VCALENDAR
VERSION:2.0
PRODID:-//FLAT KS - ECPv6.15.20//NONSGML v1.0//EN
CALSCALE:GREGORIAN
METHOD:PUBLISH
X-WR-CALNAME:FLAT KS
X-ORIGINAL-URL:https://flatks.org
X-WR-CALDESC:Events for FLAT KS
REFRESH-INTERVAL;VALUE=DURATION:PT1H
X-Robots-Tag:noindex
X-PUBLISHED-TTL:PT1H
BEGIN:VTIMEZONE
TZID:America/Chicago
BEGIN:DAYLIGHT
TZOFFSETFROM:-0600
TZOFFSETTO:-0500
TZNAME:CDT
DTSTART:20230312T080000
END:DAYLIGHT
BEGIN:STANDARD
TZOFFSETFROM:-0500
TZOFFSETTO:-0600
TZNAME:CST
DTSTART:20231105T070000
END:STANDARD
BEGIN:DAYLIGHT
TZOFFSETFROM:-0600
TZOFFSETTO:-0500
TZNAME:CDT
DTSTART:20240310T080000
END:DAYLIGHT
BEGIN:STANDARD
TZOFFSETFROM:-0500
TZOFFSETTO:-0600
TZNAME:CST
DTSTART:20241103T070000
END:STANDARD
BEGIN:DAYLIGHT
TZOFFSETFROM:-0600
TZOFFSETTO:-0500
TZNAME:CDT
DTSTART:20250309T080000
END:DAYLIGHT
BEGIN:STANDARD
TZOFFSETFROM:-0500
TZOFFSETTO:-0600
TZNAME:CST
DTSTART:20251102T070000
END:STANDARD
BEGIN:DAYLIGHT
TZOFFSETFROM:-0600
TZOFFSETTO:-0500
TZNAME:CDT
DTSTART:20260308T080000
END:DAYLIGHT
BEGIN:STANDARD
TZOFFSETFROM:-0500
TZOFFSETTO:-0600
TZNAME:CST
DTSTART:20261101T070000
END:STANDARD
BEGIN:DAYLIGHT
TZOFFSETFROM:-0600
TZOFFSETTO:-0500
TZNAME:CDT
DTSTART:20270314T080000
END:DAYLIGHT
BEGIN:STANDARD
TZOFFSETFROM:-0500
TZOFFSETTO:-0600
TZNAME:CST
DTSTART:20271107T070000
END:STANDARD
END:VTIMEZONE
BEGIN:VEVENT
DTSTART;TZID=America/Chicago:20240809T170000
DTEND;TZID=America/Chicago:20240921T210000
DTSTAMP:20260425T083501
CREATED:20240803T150154Z
LAST-MODIFIED:20240917T130207Z
UID:2892-1723222800-1726952400@flatks.org
SUMMARY:Finding La Yarda | Interactive Installation
DESCRIPTION:Finding La Yarda is an immersive multimedia art experience recreating a room from La Yarda\, the housing unit built for Mexican American railroad workers in Lawrence\, Kansas from 1920-51. Using film\, sound\, art\, and digital storytelling practices\, Finding La Yarda brings oral history to life by taking audiences on a cultural journey through time and place. Contributing Artists include Justin Favela\, Ann Dean\, Jonathan Christensen Caballero\, Brenna Buchanan Young\, Jeremy Rockwell\, Peter Jasso\, and Marlo Angell. \nA creative team of artists has worked in close collaboration with former La Yarda residents and their descendants to manifest this project. The installation uses experiential tools to create an artistically rendered living space from the La Yarda apartments. From brick facades to a recreated garden and interior kitchen\, tactile set pieces add a physical dimension to the housing unit that until now has only been visible through photographs and paintings. ​ \nDesign Architect Brenna Buchanan Young created floor plans and blueprints for this work. Artist Jeremy Rockwell built the structure on a life-size scale.​​ \nFormer Ceramics Artist-in-Residence Jonathan Christensen Caballero’s ceramic sculptures were molded from the families’ hands\, faces\, and feet. They provide isolated moments for participants to reflect on.  ​ \nMixed media artist Justin Favela has created a wall-length mural and tree using piñata inspired materials. The mural takes inspiration from the impressionistic childhood memories of the residents and the tree will be created through a hands-on collaborative process with the community. \n​To take the impact of this project outside of the Arts Center walls\, photographic portraits of the living residents of La Yarda taken by photographer Ann Dean will be displayed on the Lawrence Loop at 8th and Delaware. These large-scale images will highlight the contributions of the Mexican American community in Lawrence and reach people outside of traditional gallery spaces. \nTelevision screens mounted in window sills and table tops reveal fleeting moments and memories through the medium of experimental film created by Marlo Angell and Peter Jasso.​ \nThrough these elements\, attendees will experience the domestic atmosphere\, emotional connections\, cultural celebrations\, and environmental struggles that took place both within and outside the walls of La Yarda. \nINSIGHT Art Talk  | September 16\, 7 pm  \nThis project is produced by the Lawrence Arts Center by a sub-award from Stories for All: A Digital Storytelling Project for the Twenty-First Century\, an initiative hosted by the Hall Center for the Humanities in partnership with the Institute for Digital Research in the Humanities at the University of Kansas and supported by a grant from the Andrew W. Mellon Foundation. Justin Favela’s participation is made possible by visiting artist grant support from the Kansas Creative Arts Industries Commission. 
URL:https://flatks.org/event/finding-la-yarda-interactive-installation/
LOCATION:Lawrence Arts Center\, 940 New Hampshire St\, Lawrence\, KS\, 66044\, United States
ATTACH;FMTTYPE=image/jpeg:https://flatks.org/wp-content/uploads/2024/08/layarda.jpg
END:VEVENT
BEGIN:VEVENT
DTSTART;TZID=America/Chicago:20240916T190000
DTEND;TZID=America/Chicago:20240916T200000
DTSTAMP:20260425T083501
CREATED:20240911T151006Z
LAST-MODIFIED:20240911T151204Z
UID:3007-1726513200-1726516800@flatks.org
SUMMARY:INSIGHT Art Talk | Finding La Yarda Artists
DESCRIPTION:Join us for an evening with the Finding La Yarda team of artists as they discuss the process and history of the Finding La Yarda installation! \nFinding La Yarda is an immersive multimedia art experience recreating a room from La Yarda\, the housing unit built for Mexican American railroad workers in Lawrence\, Kansas from 1920-51. Using film\, sound\, art\, and digital storytelling practices\, Finding La Yarda brings oral history to life by taking audiences on a cultural journey through time and place. Contributing Artists include Justin Favela\, Ann Dean\, Jonathan Christensen Caballero\, Brenna Buchanan Young\, Peter Jasso\, and Marlo Angell.
URL:https://flatks.org/event/insight-art-talk-finding-la-yarda-artists/
LOCATION:Lawrence Arts Center\, 940 New Hampshire St\, Lawrence\, KS\, 66044\, United States
ATTACH;FMTTYPE=image/jpeg:https://flatks.org/wp-content/uploads/2024/09/IAT-Artist-Panel.jpg
END:VEVENT
BEGIN:VEVENT
DTSTART;TZID=America/Chicago:20241003T173000
DTEND;TZID=America/Chicago:20241003T193000
DTSTAMP:20260425T083501
CREATED:20240911T143422Z
LAST-MODIFIED:20240911T144220Z
UID:2991-1727976600-1727983800@flatks.org
SUMMARY:Walk the Loop — Sports Pavilion Lawrence Trailhead
DESCRIPTION:Park in the Sports Pavilion Lawrence parking lot and meet the City of Lawrence Parks and Recreation team outside of the front entrance of Sports Pavilion Lawrence at 5:30 p.m. We will start the walk from there\, and participants can feel free to walk as long or as little as they would like. See the flyer for more information. We hope to see you there!
URL:https://flatks.org/event/walk-the-loop-sports-pavilion-lawrence-trailhead/
LOCATION:Sports Pavilion Lawrence Trailhead\, 100 Rock Chalk Ln\, Lawrence\, KS\, United States
ATTACH;FMTTYPE=image/jpeg:https://flatks.org/wp-content/uploads/2024/09/walk-the-loop.jpg
END:VEVENT
BEGIN:VEVENT
DTSTART;TZID=America/Chicago:20241010T173000
DTEND;TZID=America/Chicago:20241010T193000
DTSTAMP:20260425T083501
CREATED:20240911T144000Z
LAST-MODIFIED:20240911T144244Z
UID:2995-1728581400-1728588600@flatks.org
SUMMARY:Walk the Loop — Lawrence Arboretum Trailhead
DESCRIPTION:Park in the Lawrence Rotary Arboretum parking lot and meet the LMH Health team at 5:30 p.m. in the parking lot. The walk will start from there\, and participants can feel free to walk as long or as little as they would like. See the flyer for more information. We hope to see you there! https://simplebooklet.com/walktober2024
URL:https://flatks.org/event/walk-the-loop-lawrence-arboretum-trailhead/
LOCATION:Lawrence Rotary Arboretum Trailhead\, 27th and Waukarusa\, Lawrence\, 66047\, United States
ATTACH;FMTTYPE=image/jpeg:https://flatks.org/wp-content/uploads/2024/09/walk-the-loop.jpg
END:VEVENT
BEGIN:VEVENT
DTSTART;TZID=America/Chicago:20241017T173000
DTEND;TZID=America/Chicago:20241017T193000
DTSTAMP:20260425T083501
CREATED:20240911T144736Z
LAST-MODIFIED:20240911T144736Z
UID:3001-1729186200-1729193400@flatks.org
SUMMARY:Walk the Loop — Baker Wetlands Discovery Center Trailhead
DESCRIPTION:Park in the Baker Wetlands Discovery Center parking lot and meet the Live Well Douglas County team at 5:30 p.m. in the parking lot. The walk will start from there\, and participants can feel free to walk as long or as little as they would like. See the flyer for more information. We hope to see you there! https://simplebooklet.com/walktober2024
URL:https://flatks.org/event/walk-the-loop-baker-wetlands-discovery-center-trailhead/
LOCATION:Baker Wetlands Discovery Center Trailhead\, 1365 N. 1250 Road\, Lawrence\, KS\, 66046\, United States
ATTACH;FMTTYPE=image/jpeg:https://flatks.org/wp-content/uploads/2024/09/walk-the-loop.jpg
END:VEVENT
BEGIN:VEVENT
DTSTART;TZID=America/Chicago:20241024T173000
DTEND;TZID=America/Chicago:20241024T193000
DTSTAMP:20260425T083501
CREATED:20240911T145129Z
LAST-MODIFIED:20240911T145226Z
UID:3005-1729791000-1729798200@flatks.org
SUMMARY:Walk the Loop — Burcham Park Trailhead
DESCRIPTION:Park in the Burcham Park parking lot and meet the Friends of Lawrence Area Trails (FLAT) team at 5:30 p.m. in the parking lot. The walk will start from there\, and participants can feel free to walk as long or as little as they would like. See the flyer for more information. We hope to see you there! https://simplebooklet.com/walktober2024
URL:https://flatks.org/event/walk-the-loop-burcham-park-trailhead/
LOCATION:Burcham Park Trailhead\, South Powerhouse Road\, Lawrence\, KS\, 66044\, United States
ATTACH;FMTTYPE=image/jpeg:https://flatks.org/wp-content/uploads/2024/09/walk-the-loop.jpg
END:VEVENT
BEGIN:VEVENT
DTSTART;TZID=America/Chicago:20241103T150000
DTEND;TZID=America/Chicago:20241103T180000
DTSTAMP:20260425T083501
CREATED:20240420T133317Z
LAST-MODIFIED:20240420T133317Z
UID:2775-1730646000-1730656800@flatks.org
SUMMARY:Beers of the Kaw
DESCRIPTION:Beer of the Kaw is a beer tasting of the breweries in the Kansas River watershed\, which is 61\,000 square miles!  We use beer and water to educate about the watershed.  Come join us to learn a little\, taste a little beer\, and support our work for the Kansas River!
URL:https://flatks.org/event/beers-of-the-kaw-2/
LOCATION:Abe & Jake’s Landing\, 8 E 6th St\, Lawrence\, KS\, 66044\, United States
ATTACH;FMTTYPE=image/jpeg:https://flatks.org/wp-content/uploads/2024/04/beers-2022.jpg
END:VEVENT
BEGIN:VEVENT
DTSTART;TZID=America/Chicago:20250228T180000
DTEND;TZID=America/Chicago:20250228T220000
DTSTAMP:20260425T083501
CREATED:20250220T150407Z
LAST-MODIFIED:20250220T150407Z
UID:3045-1740765600-1740780000@flatks.org
SUMMARY:16th Annual Wild & Scenic Film Festival
DESCRIPTION:Plan to stop by FLAT’s table at the Wild and Scenic Film Fest on 2/28 at Liberty Hall for the latest local area trail happenings and news. Lobby time is from 6:00-7:00pm. Hope to see you there! \nThe Wild & Scenic Film Festival was started by the watershed advocacy group\, the South Yuba River Citizens League (SYRCL)\, in 2003. This Festival benefits Friends of the Kaw\, all proceeds from the event will benefit Friends of the Kaw and the Kansas Riverkeeper Program.
URL:https://flatks.org/event/16th-annual-wild-scenic-film-festival/
LOCATION:Liberty Hall\, 644 Massachusetts St\, Lawrence\, KS\, 66044\, United States
ATTACH;FMTTYPE=image/jpeg:https://flatks.org/wp-content/uploads/2025/02/film-image-wp.jpg
END:VEVENT
BEGIN:VEVENT
DTSTART;TZID=America/Chicago:20250424T080000
DTEND;TZID=America/Chicago:20250424T170000
DTSTAMP:20260425T083501
CREATED:20250424T143244Z
LAST-MODIFIED:20250424T151312Z
UID:3052-1745481600-1745514000@flatks.org
SUMMARY:Trails that Connect Us '25
DESCRIPTION:Thursday\, April 24\,  5-8:00 pm. \nFree State’s Eastside Bottling Facility\, 1927 Moodie Road \nThere will be food trucks\, music and beer. Enjoy kid-friendly activities\, go on a brewery tour\, get area trail information. \nThere is easy access from the Burroughs Trail\, so cycling or walking is encouraged! \nDogs on leash are welcome outside. \nThis is getting exciting! \n– Music: Signal Ridge\n– Food Trucks: Burger Bus\, JB’s Tacos\, Rainbow Ice Company\n– Bike Valet Parking PLUS get a FREE beer if you bike to the event\n– Kids Activities: Dottie LPR Book Mobile\, Prairie Park Nature Center\, Watkins Museum of History\, Little Red School House\n– Bring your dog on a leash and stop by Love Grub\n– Trail and Area Information Tables:\n— FLAT\n— Baker Wetlands\n— Divine Nature Therapy\n— Douglas County Metropolitan Planning Organization\n— Friends of Clinton State Park\n— Friends of the KAW\n— Kansas Biological Survey\n— Kansas Geological Survey\n— Kansas Land Trust\n— Kansas Trails Council\n— Kaw Valley Bluebird Society\n— Lawrence Bike Club\n— Lawrence Bird Alliance\n— Lawrence Mountain Bike Club\n— Lawrence Park & Rec — give your feedback on the Lawrence Bike Plan\n— Lawrence Public Library (Seed library)\n— LiveWell Douglas County\n— Monarch Watch\n— Outdoors Unscripted Festival\n— Outside for a Better Inside\n— Sunflower Outdoor & Bike Shop\n— The Reflector\n— Top City Trail Alliance\n— University Press of Kansas
URL:https://flatks.org/event/trails-that-connect-us-25/
LOCATION:Free State Brewing Company Bottling Facility\, 1927 Moodie Road\, Lawrence\, KS\, 66046\, United States
ATTACH;FMTTYPE=image/jpeg:https://flatks.org/wp-content/uploads/2025/02/Wordpress-Event-Thurs.jpg
END:VEVENT
BEGIN:VEVENT
DTSTART;TZID=America/Chicago:20250719T083000
DTEND;TZID=America/Chicago:20250719T110000
DTSTAMP:20260425T083501
CREATED:20250623T211106Z
LAST-MODIFIED:20250623T211106Z
UID:3145-1752913800-1752922800@flatks.org
SUMMARY:Community Bike Ride 2025
DESCRIPTION:The Lawrence\, KS community bike ride happens each year on the 3rd Saturday in July. We start at 8:30am at the Rotary Arboretum and have lots of options for everyone. \nMark your calendars\, save the date\, and make plans now to attend the 2025 Lawrence Community Bike Ride on Saturday\, July 19th from 8:30 – 11:00am. Rain date Sunday July 20th. \nFour mile guided ride at 9:30am\nTwelve mile guided ride at 8:45am \nFREE Helmets with complementary fittings (while supplies last) \nBright Colored Ride Shirts (while supplies last) \nAll rides and festivities begin at the Lawrence Rotary Arboretum located at 27th and Wakarusa by the YSC Soccer Fields.
URL:https://flatks.org/event/community-bike-ride-2025/
LOCATION:Lawrence Rotary Arboretum Trailhead\, 27th and Waukarusa\, Lawrence\, 66047\, United States
ATTACH;FMTTYPE=image/png:https://flatks.org/wp-content/uploads/2025/06/comm-bike-ride.png
END:VEVENT
BEGIN:VEVENT
DTSTART;TZID=America/Chicago:20250920T173000
DTEND;TZID=America/Chicago:20250920T200000
DTSTAMP:20260425T083501
CREATED:20250815T135128Z
LAST-MODIFIED:20250815T135220Z
UID:3186-1758389400-1758398400@flatks.org
SUMMARY:La Yarda Public Art Red Ribbon Celebration
DESCRIPTION:Come celebrate the unveiling of the new public art installation honoring the La Yarda community on September 20. The event begins with a red ribbon dedication of the mural panels created by artist Javy Ortiz at the corner of the Lawrence Loop at 8th & Delaware. Mariachi musicians will guide community members down the trail to Van Go (715 New Jersey Street) for a community celebration with refreshments and live music. Maria the Mexican will perform an invigorating selection of music inspired by each of the six mural panels. \nThe La Yarda Public Art Project was produced by the Lawrence Arts Center and made possible by funding from Blue Cross and Blue Shield of Kansas as part of LiveWell Douglas County’s Pathways to a Healthy Kansas grant. This project recognizes the contributions of the La Yarda residents and invites visitors to revisit history while engaging in the outdoor trail system. Historical signage to accompany this artwork is supported by the Douglas County Natural and Cultural Heritage Grant Program. The celebration is made possible from grant support from the City of Lawrence Department of Parks\, Recreation and Culture. \nSpecial thank you to the steering committee comprised of members from the La Yarda families\, art professionals from the City of Lawrence\, the Lawrence Arts Center and the East Lawrence Neighborhood Association\, and community partners from LiveWell Douglas County and the Watkins Museum of History.​ \nABOUT THE ARTIST\nJavy Ortiz is a Mexican-born interdisciplinary artist residing in Lawrence\, KS. As a self-taught artist\, Javy works prolifically to expand his knowledge and craftsmanship while embracing an experimental approach to creating. He pulls inspiration from personal experiences\, as well as pop culture and contemporary social issues. Mixing and layering mediums such as acrylics\, spray paint\, and epoxy resin\, Javy creates compositions that explore identity and resemble the path we navigate through our daily lives. Javy’s work has been featured in numerous group exhibitions regionally and can be found in many private collections. \nABOUT THE MUSIC\nInfluenced by traditional Mariachi music\, Maria The Mexican is a mezcla of Mexican folklore and Rock n’ Roll. For ten years\, Maria Elena Cuevas performed with her grandmother’s mariachi band Mariachi Estrella. In 2012\, Maria connected with longtime Alt-R&B musician Garrett Nordstrom to form the fusion of Maria The Mexican. MTM is mixed with a touch of blues\, soul\, funk\, and rock n’ roll enhanced by the musical knowledge and sounds of Nordstrom. With a southwestern flare and melancholy motifs\, Maria The Mexican rocks it out in Spanish and English with a host of emotion. \nLA YARDA HISTORY\nThroughout Lawrence’s history\, people have immigrated to Douglas County for work and made the area home. Few communities have shared closer bonds than the Mexican-American community of La Yarda. Two depressions in Mexico at the turn of the century\, unrest brought on by the Mexican Revolution (1910-1925)\, and a high demand for railroad workers brought men to America for work. These railroad workers (who in Lawrence came mostly from Vera Cruz or Juarez) were usually employed with the railroad from March until October\, when many returned to Mexico. In the 1920s\, housing was built in Lawrence’s Santa Fe yards to encourage employees and their families to remain year-round. This Mexican-American community\, the first housing complex in Lawrence\, came to be known as La Yarda. \nFormerly located just east of the Santa Fe Railroad\, La Yarda consisted of two U-shaped brick buildings on concrete slab\, each divided into five housing units. It was referred to by the outside community as the Sante Fe Apartments. The two buildings\, each housing about 50 people\, faced each other with a wide courtyard that was the hub of community activity. The courtyard provided a pump that was connected to the city water supply\, and a large tree stood at one end that provided shade for communal meals. Outhouses were located at the perimeter and gardens were grown at the other end of the complex. The structures were prone to flooding\, but the construction method allowed for cleaning by hosing down after a flood. \nGenerosity and a close-knit family enabled the Mexican-American community to make it through hard times. The women worked side by side doing laundry\, cooking\, and keeping a watchful eye on the children. The men tended the gardens\, growing foods such as corn\, peppers\, chickens\, and hogs\, that were shared within the community. No one went hungry—not even strangers passing through from the trains. There was always a welcoming smile and respect for another human being. Members socialized\, worked\, and often attended religious services together. Residents built tennis\, basketball courts\, and a baseball diamond where children could play. \nThe flood of 1951 destroyed La Yarda. Families that called the area home moved into homes on Pennsylvania\, New Jersey\, and New York streets. The local Mexican-American community has kept a close tie to its heritage through faith\, music\, dance\, and community. The community celebrates their heritage with the annual St. John’s Mexican Fiesta\, which began in 1981 and has continued to grow larger and more popular each year.
URL:https://flatks.org/event/la-yarda-public-art-celebration/
LOCATION:Lawrence Loop\, Lawrence\, KS\, United States
ATTACH;FMTTYPE=image/jpeg:https://flatks.org/wp-content/uploads/2025/08/wp-event.jpg
END:VEVENT
BEGIN:VEVENT
DTSTART;TZID=America/Chicago:20251119T173000
DTEND;TZID=America/Chicago:20251119T193000
DTSTAMP:20260425T083501
CREATED:20251026T165004Z
LAST-MODIFIED:20251114T190931Z
UID:3391-1763573400-1763580600@flatks.org
SUMMARY:Cameron's Bluff Open House
DESCRIPTION:Come learn about an exciting new trail system that’s in the works!\nCameron’s Bluff Trails\n5:30–7:30 p.m.\nWed.\, November 19\nLawrence Public Library Auditorium \nBring your curiosity\, questions and comments. \nThere will be a short presentation at 5:45 p.m. and table displays so you can learn more about the project. Representatives will be available to take comments and answer questions. \nFor more info visit the Cameron’s Bluff project page
URL:https://flatks.org/event/camerons-bluff-open-house/
LOCATION:Lawrence Public Library\, 707 Vermont St.\, Lawrence\, KS\, 66044\, United States
ATTACH;FMTTYPE=image/jpeg:https://flatks.org/wp-content/uploads/2025/10/WP.jpg
END:VEVENT
BEGIN:VEVENT
DTSTART;TZID=America/Chicago:20260202T163000
DTEND;TZID=America/Chicago:20260202T183000
DTSTAMP:20260425T083501
CREATED:20260123T182208Z
LAST-MODIFIED:20260123T183002Z
UID:3586-1770049800-1770057000@flatks.org
SUMMARY:Lawrence Loop Completion Feedback Session
DESCRIPTION:The Lawrence-Douglas County Metropolitan Planning Organization (MPO) is updating the Lawrence Bikes Plan with a focused effort on identifying alignments to close gaps in the Lawrence Loop Shared Use Path. Closing gaps in the loop has been a high priority identified by the public from the previous two engagement opportunities. This phase invites the public to share input on specific segments identified for consideration as part of closing Loop gaps. \nReview the identified Lawrence Loop alignment options for consideration and share your input with the Bike Plan Update Steering Committee. Are there concerns or considerations related to these alignments? Provide feedback by attending our open house or sharing comments online to help shape recommendations in the Lawrence Bikes Plan. \nGive Your Feedback
URL:https://flatks.org/event/3586/
LOCATION:Lawrence Public Library\, 707 Vermont St.\, Lawrence\, KS\, 66044\, United States
ATTACH;FMTTYPE=image/jpeg:https://flatks.org/wp-content/uploads/2026/01/Lawrence-Loop-Bike-Open-House-wp.jpg
END:VEVENT
BEGIN:VEVENT
DTSTART;TZID=America/Chicago:20260227T190000
DTEND;TZID=America/Chicago:20260227T220000
DTSTAMP:20260425T083501
CREATED:20260203T144244Z
LAST-MODIFIED:20260203T144244Z
UID:3607-1772218800-1772229600@flatks.org
SUMMARY:
DESCRIPTION:17TH ANNUAL WILD & SCENIC FILM FESTIVAL\nFRIDAY\, FEBRUARY 27\, 2026 at LIBERTY HALL\, LAWRENCE\, KS\nDoors open at 6:00 PM; Show starts at 7:00 PM\nTickets $20\nGET YOUR TICKETS AT www.universe.com/events/51LF0G\nBuy your raffle ticket and renew membership here!\nThe Wild & Scenic Film Festival was started by the watershed advocacy group\, the South Yuba River Citizens League (SYRCL)\, in 2003. Read more about the festival’s origins at  www.wildandscenicfilmfestival.org/about-the-festival.  Since then\, it has evolved into the largest environmental film festival in the nation. The annual event each January in Nevada City\, CA kicks off the nationwide tour to over 125 cities. We think the films are just too good\, and the messages too powerful to keep them to ourselves. Join us on February 27th and see for yourself! Watch the trailer for this year’s Wild & Scenic Film Festival!  \nAll proceeds from the Lawrence event will benefit Friends of the Kaw and our work for the Kansas River. \nMembers Kayak Raffle!  Enter to win a Perception Conduit 13 sit-in kayak – perfect for paddling the Kansas River! The winner will be announced at the film festival on February 27\, 2026. Raffle tickets are $10.00 and you must be a member to purchase. Not a member? Join or renew today and receive a $10.00 off coupon!  Learn more and get your raffle tickets HERE!
URL:https://flatks.org/event/3607/
LOCATION:Liberty Hall\, 644 Massachusetts St\, Lawrence\, KS\, 66044\, United States
ATTACH;FMTTYPE=image/jpeg:https://flatks.org/wp-content/uploads/2026/02/wild.jpg
END:VEVENT
BEGIN:VEVENT
DTSTART;TZID=America/Chicago:20260417T120000
DTEND;TZID=America/Chicago:20260417T140000
DTSTAMP:20260425T083501
CREATED:20260410T143210Z
LAST-MODIFIED:20260410T144837Z
UID:3674-1776427200-1776434400@flatks.org
SUMMARY:FLAT Community Survey Public Engagement Events
DESCRIPTION:Drop by the Lawrence Public Library to talk with FLAT and take our FLAT Community Engagement Survey. We would love your input and insights. \nWe will be in the Lawrence Public Library lobby Friday\, April 17\, Saturday\, April 18 and Sunday April 19 from noon to 2:00 each day.
URL:https://flatks.org/event/flat-community-survey-public-engagement-events/
LOCATION:Lawrence Public Library\, 707 Vermont St.\, Lawrence\, KS\, 66044\, United States
ATTACH;FMTTYPE=image/jpeg:https://flatks.org/wp-content/uploads/2026/04/library-event-graphic-pick-1.jpg
END:VEVENT
BEGIN:VEVENT
DTSTART;TZID=America/Chicago:20260424T170000
DTEND;TZID=America/Chicago:20260424T200000
DTSTAMP:20260425T083501
CREATED:20260319T150324Z
LAST-MODIFIED:20260423T185934Z
UID:3629-1777050000-1777060800@flatks.org
SUMMARY:Trails That Connect Us
DESCRIPTION:! UPDATE !  Trails That Connect Us has been moved to Friday evening April 24th due to the threat of severe weather. \nThe Friday forecast appears fabulous\, Hope to see you then. \nThere will be food trucks\, music\, and Free State Beer. \nWith bike valet parking\, FREE SAMPLE SIZE BEER. \nLocal organizations including:\n– Baker Wetlands\n– Friends of Lawrence Area Trails\n– Kansas Trails Inc\n– Haskell Cultural Center\n– Prairie Park Nature Center\n– Lawrence Bike Club\n– WildDouglas County\n– KU Natural History Museum\n– Lawrence Arts Center\n– Friends of the Kaw\n– And dozens more! \nLook for a couple of surprise activities.
URL:https://flatks.org/event/trails-that-connect-us-26/
LOCATION:Free State Brewing Company Bottling Facility\, 1927 Moodie Road\, Lawrence\, KS\, 66046\, United States
ATTACH;FMTTYPE=image/jpeg:https://flatks.org/wp-content/uploads/2026/04/WP-Event-Friday.jpg
END:VEVENT
END:VCALENDAR