BEGIN:VCALENDAR
VERSION:2.0
PRODID:-//FLAT KS - ECPv6.15.20//NONSGML v1.0//EN
CALSCALE:GREGORIAN
METHOD:PUBLISH
X-WR-CALNAME:FLAT KS
X-ORIGINAL-URL:https://flatks.org
X-WR-CALDESC:Events for FLAT KS
REFRESH-INTERVAL;VALUE=DURATION:PT1H
X-Robots-Tag:noindex
X-PUBLISHED-TTL:PT1H
BEGIN:VTIMEZONE
TZID:America/Chicago
BEGIN:DAYLIGHT
TZOFFSETFROM:-0600
TZOFFSETTO:-0500
TZNAME:CDT
DTSTART:20210314T080000
END:DAYLIGHT
BEGIN:STANDARD
TZOFFSETFROM:-0500
TZOFFSETTO:-0600
TZNAME:CST
DTSTART:20211107T070000
END:STANDARD
BEGIN:DAYLIGHT
TZOFFSETFROM:-0600
TZOFFSETTO:-0500
TZNAME:CDT
DTSTART:20220313T080000
END:DAYLIGHT
BEGIN:STANDARD
TZOFFSETFROM:-0500
TZOFFSETTO:-0600
TZNAME:CST
DTSTART:20221106T070000
END:STANDARD
BEGIN:DAYLIGHT
TZOFFSETFROM:-0600
TZOFFSETTO:-0500
TZNAME:CDT
DTSTART:20230312T080000
END:DAYLIGHT
BEGIN:STANDARD
TZOFFSETFROM:-0500
TZOFFSETTO:-0600
TZNAME:CST
DTSTART:20231105T070000
END:STANDARD
BEGIN:DAYLIGHT
TZOFFSETFROM:-0600
TZOFFSETTO:-0500
TZNAME:CDT
DTSTART:20240310T080000
END:DAYLIGHT
BEGIN:STANDARD
TZOFFSETFROM:-0500
TZOFFSETTO:-0600
TZNAME:CST
DTSTART:20241103T070000
END:STANDARD
END:VTIMEZONE
BEGIN:VTIMEZONE
TZID:UTC
BEGIN:STANDARD
TZOFFSETFROM:+0000
TZOFFSETTO:+0000
TZNAME:UTC
DTSTART:20190101T000000
END:STANDARD
END:VTIMEZONE
BEGIN:VEVENT
DTSTART;TZID=America/Chicago:20230609T133000
DTEND;TZID=America/Chicago:20230609T150000
DTSTAMP:20260425T061132
CREATED:20230524T213214Z
LAST-MODIFIED:20230606T142003Z
UID:2145-1686317400-1686322800@flatks.org
SUMMARY:Douglas County Open Space Listening Session
DESCRIPTION:Identified as a priority in  Plan 2040 \, Douglas County has launched an 18-month planning process to establish the Douglas County Open Space Plan. \n\n\n\n\n\n\nThrough this planning process the county will gather community input that will help shape the Open Space Plan. Douglas County wants to hear your vision for how open spaces could be preserved and utilized in ways that benefit the greater community into the future. \n\n\n\n\n\n\nThe resulting Open Space Plan will be a broad policy guide toward prioritizing a range of ecosystems and land uses\, such as prairie\, floodplain\, agriculture\, historic sites\, trails\, and more. \n\n\n\n\n\n\nThe plan is a local effort intended to protect shared community values and county character\, identify voluntary land management options and partnerships\, and foster appreciation and access to nature for future generations. \n\n\n\nThe Open Space project team will host a listening session on: \n\n\n\nFriday\, June 9\, 1:30 p.m.-3 p.m. at Lone Star Lake Community Building\, 665 E. 665 Road\, Lawrence.\n\nMore Info
URL:https://flatks.org/event/douglas-county-open-space-listening-session-2/
LOCATION:Lone Star Lake Community Building\, 665 E. 665 Road\, Lawrence\, 66047\, United States
ATTACH;FMTTYPE=image/jpeg:https://flatks.org/wp-content/uploads/2023/05/Douglas-County-KS-Open-Space-1.jpg
END:VEVENT
BEGIN:VEVENT
DTSTART;TZID=America/Chicago:20230608T173000
DTEND;TZID=America/Chicago:20230608T190000
DTSTAMP:20260425T061132
CREATED:20230524T212331Z
LAST-MODIFIED:20230524T212331Z
UID:2135-1686245400-1686250800@flatks.org
SUMMARY:Douglas County Open Space Listening Session
DESCRIPTION:Identified as a priority in  Plan 2040 \, Douglas County has launched an 18-month planning process to establish the Douglas County Open Space Plan. \n\n\n\n\n\n\nThrough this planning process the county will gather community input that will help shape the Open Space Plan. Douglas County wants to hear your vision for how open spaces could be preserved and utilized in ways that benefit the greater community into the future. \n\n\n\n\n\n\nThe resulting Open Space Plan will be a broad policy guide toward prioritizing a range of ecosystems and land uses\, such as prairie\, floodplain\, agriculture\, historic sites\, trails\, and more. \n\n\n\n\n\n\nThe plan is a local effort intended to protect shared community values and county character\, identify voluntary land management options and partnerships\, and foster appreciation and access to nature for future generations. \n\n\n\nThe Open Space project team will host a listening session on: \n\n\n• Thursday\, June 8\, 5:30 p.m.-7 p.m. at Lawrence Public Library\, 707 Vermont St.\, Lawrence. \nMore Info
URL:https://flatks.org/event/douglas-county-open-space-listening-session/
LOCATION:Lawrence Public Library\, 707 Vermont St.\, Lawrence\, KS\, 66044\, United States
ATTACH;FMTTYPE=image/jpeg:https://flatks.org/wp-content/uploads/2023/05/Douglas-County-KS-Open-Space-1.jpg
END:VEVENT
BEGIN:VEVENT
DTSTART;TZID=America/Chicago:20230506T100000
DTEND;TZID=America/Chicago:20230506T120000
DTSTAMP:20260425T061132
CREATED:20230420T172522Z
LAST-MODIFIED:20230420T172725Z
UID:2096-1683367200-1683374400@flatks.org
SUMMARY:May Day Hey Day
DESCRIPTION:Van Go’s family friendly\, go-at-your-own-pace community walk\, ride\, roll\, and run along the Lawrence Loop is back! After cruising the Loop\, join us for a party from 10am-Noon in the Van Go parking lot\, complete with DJ Approach\, Cellar Door bagels and coffee\, a craft cocktail courtesy of Bon Bon Cocktail Club\, The Last Carnival’s Ruckus Wagon\, a succulent planting station a la Jungle House\, photo booth\, and more!
URL:https://flatks.org/event/may-day-hey-day/
LOCATION:Van Go\, 715 New Jersey\, Lawrence\, KS\, United States
ATTACH;FMTTYPE=image/jpeg:https://flatks.org/wp-content/uploads/2023/04/MDHD-Infographic-2.jpg
END:VEVENT
BEGIN:VEVENT
DTSTART;TZID=America/Chicago:20230420T170000
DTEND;TZID=America/Chicago:20230420T200000
DTSTAMP:20260425T061132
CREATED:20230116T161408Z
LAST-MODIFIED:20230420T151636Z
UID:1967-1682010000-1682020800@flatks.org
SUMMARY:Trails that Connect Us
DESCRIPTION:Join Us for Trails that Connect Us\nThursday\, April 20\,  5-8pm. (Rain date: April 21\, 5-8pm) \nFree State’s Eastside Bottling Facility\, 1927 Moodie Road \nThere will be food trucks\, music and beer. Enjoy kid-friendly activities\, go on a brewery tour\, get area trail information. \nMore than 27 organizations will share information about various activities in our region. Drop by the Friends of Lawrence Area Trails table for trail updates and maps. \nSunflower Outdoor & Bike will have demos and maintenance tips. \nLawrence Arts Center will be on hand with an activity for kids. Kids can make a drawing using a bike spirograph at the Topeka Community Cycle Project table. \nBuskerfest will be there entertaining everyone. Balloon Man will there making balloons. \nThere is easy access from the Burroughs Trail\, so cycling or walking is encouraged! There will be free bicycle valet parking — ride and park your bike to receive a beer sample ticket! \nDogs on leash are welcome outside. \n\nBid on Lucky Chance Drawing Baskets\nYou can Buy tickets at the event!\nDo not need to be present to win. \nFamily Trail Adventure Pack — $300 value \n \nDonate to Enter\nA Day on (or Around) the Loop — $100 value \nA Day on (or Around) the Loop\nDonate to Enter\nRunner’s Race Training Basket — $250 value \nRunner’s Race Training Basket\nDonate to Enter\n\nThe fabulous Lawrence-based bluegrass trio Signal Ridge will be entertaining us at Trails that Connect Us! We are so excited! \n\nhttps://www.signalridgemusic.com/ \n\nSunflower Devo will be providing bike valet parking at Trails that Connect Us. Ride your bike to the event and get a free beer! \nSunflower Devo is a NICA approved youth mountain biking team for 6-12 grade student athletes. \n \n\nHere are the organizations who will be at Trails that Connect Us: \n\nFriends of Clinton State Park\nFriends of the Kaw\nGeorge Frazier author of The Last Wild Places in Kansas\nJayhawk Audubon Society\nKansas Trail Council\nKaw Valley Bluebird Society\nLawrence Bike Club\nLawrence Busker Festival 2023 (not available on the rain date)\nLawrence Mountain Bike Club\nLawrence Parks and Recreation\nLawrence Public Library\nLawrence Trail Hawks\nLiveWell Douglas County\nLove Grub\nPawsh Wash\nSeed Library\nSunflower Outdoor & Bike\nTop City Trail Alliance\nTopeka Community Cycle Project\nUniversity Press of Kansas\nWatkins Museum of History (not available on the rain date)\nWild Douglas County\n\nPlease check back for updates as they become available. \n\nWe will have food trucks at Trails that Connect Us. \nJB’s Tacos \n \nThe Burger Bus (not available on the rain date) \n \nTropical Treats Shaved Ice & Lemonade
URL:https://flatks.org/event/trails-that-connect-us/
LOCATION:Free State Brewing Company Bottling Facility\, 1927 Moodie Road\, Lawrence\, KS\, 66046\, United States
ATTACH;FMTTYPE=image/jpeg:https://flatks.org/wp-content/uploads/2023/01/Wordpress-Event-2023-we-are-on.jpg
END:VEVENT
BEGIN:VEVENT
DTSTART;TZID=America/Chicago:20221106T150000
DTEND;TZID=America/Chicago:20221106T180000
DTSTAMP:20260425T061132
CREATED:20221004T141932Z
LAST-MODIFIED:20221004T141932Z
UID:1814-1667746800-1667757600@flatks.org
SUMMARY:Beers of the Kaw
DESCRIPTION:Join us at the 7th annual Beers of the Kaw at Abe and Jakes Landing on Nov 6 from 3-6:00pm. Beers of the Kaw is a beer tasting of the breweries in the Kansas River watershed. \nBe sure to drop by the Friends of Lawrence Area Trails (FLAT) table! Pick up area trail maps\, grab a t-shirt and learn about multiple trails in our area and how you can help. \nTickets are $35.00 and includes \n\nEntrance to the event\, a beer tasting glass and access to all of the beer brewers for tasting.  You get a “beer bingo” card and if you fill up the card (by visiting all of the brewers\, but you don’t have to drink it all)\, then you get added into a drawing for tons of door prizes at the end of the night.\nThere are food vendors on site\, (Terrebonne\, JB’s Tacos and LK Wings!) but the cost for food is not included in the ticket price.\nThere is an outdoor patio to get fresh air and watch the Kansas River!\nWe will also have many sponsors to visit and a silent auction!\nFootball will be on the big screen!
URL:https://flatks.org/event/beers-of-the-kaw/
LOCATION:Abe & Jake’s Landing\, 8 E 6th St\, Lawrence\, KS\, 66044\, United States
ATTACH;FMTTYPE=image/jpeg:https://flatks.org/wp-content/uploads/2022/10/beers-2022.jpg
END:VEVENT
BEGIN:VEVENT
DTSTART;TZID=America/Chicago:20221028T190000
DTEND;TZID=America/Chicago:20221028T210000
DTSTAMP:20260425T061132
CREATED:20220930T141110Z
LAST-MODIFIED:20220930T141110Z
UID:1778-1666983600-1666990800@flatks.org
SUMMARY:38N Fest
DESCRIPTION:Join us at the Fest!\nOctober 28\, 2022 – 7-9pm\nTall Tales and Campfire stories.\nFellow Kansan Adventurers.\nCome ready to be inspired by the stories of the 38 North community and learn how to get more involved. \nDid we mention there will be beer? Come to hang and celebrate outdoor adventure in Kansas! Be sure to visit the Friends of Lawrence Area Trails table! Pick up area trail maps\, grab a t-shirt and learn about multiple trails in our area and how you can help.
URL:https://flatks.org/event/38n-fest/
LOCATION:Carnegie Building\, 200 W. 9th St.\, Lawrence\, KS\, 66044\, United States
ATTACH;FMTTYPE=image/jpeg:https://flatks.org/wp-content/uploads/2022/09/38N_POSTER_2022-wp-event.jpg
END:VEVENT
BEGIN:VEVENT
DTSTART;TZID=America/Chicago:20221015T100000
DTEND;TZID=America/Chicago:20221015T180000
DTSTAMP:20260425T061132
CREATED:20220927T120557Z
LAST-MODIFIED:20220930T103538Z
UID:1743-1665828000-1665856800@flatks.org
SUMMARY:The Belgian Waffle Ride
DESCRIPTION:Plan to drop by the Friends of Lawrence Area Trails (FLAT) table at The Belgian Waffle events on Saturday\, October 15th. \n8:00 am Eliel & Pablove Breakfast Burrito Ride. Open to all!\n10:00–6:00 pm BWR Expo @ 8th & Massachusetts\nNoon–6:00 pm Beer garden @ 8th & Massachusetts \n A mostly off-road parcourse throughout the northeast region of Kansas was carefully designed to provide double the elevation per mile than many events in the region\, giving this event has a unique punchy complexion. It’s hallmarks include two extended cyclocross courses through the Snake Farm and some wonderful single-track to surprise and delight all. There are three distances – Waffle\, Wafer (80-ish miles) and Wanna (40-ish miles). \nThe only Euro-style Spring Classics on American soil\, this BWR in Kansas is being hosted by Sunflower Outdoor and Bike Shop.
URL:https://flatks.org/event/the-belgian-waffle-ride/
LOCATION:Sunflower Outdoor & Bike Shop\, 804 Massachusetts St\, Lawrence\, KS\, 66044\, United States
ATTACH;FMTTYPE=image/jpeg:https://flatks.org/wp-content/uploads/2022/09/bwr2022_mod.jpg
END:VEVENT
BEGIN:VEVENT
DTSTART;TZID=America/Chicago:20220716T083000
DTEND;TZID=America/Chicago:20220716T110000
DTSTAMP:20260425T061132
CREATED:20220609T103509Z
LAST-MODIFIED:20220706T141420Z
UID:1513-1657960200-1657969200@flatks.org
SUMMARY:Lawrence Community Bike Ride
DESCRIPTION:Mark your calendars\, save the date\, and make plans now to attend the 2022 Lawrence Community Bike Ride Saturday\, July 16th from 8:30 – 11:00am. The event\, helmets\, and t-shirts are free. \n\nFive rides to choose from (or skip the group and ride anytime)\nFREE Helmets with complementary fittings\nFREE Bright Colored Ride Shirts (while supplies last)\n\nAll rides and festivities begin at the Lawrence Rotary Arboretum located at 27th and Waukarusa by the YSC Soccer Fields. \nRain Date: July 17 \nRides: \n\n12 Miles (Queen Road) Group Ride at 9am\n8 Miles (Highway 40) Group Ride at 9am\n6 Miles (Bob Billings) Group Ride at 9am\n4 Miles (Sanders Mound) Group Ride at 9am\n1 Mile Arboretum loops available anytime
URL:https://flatks.org/event/lawrence-community-bike-ride/
LOCATION:Lawrence Rotary Arboretum Trailhead\, 27th and Waukarusa\, Lawrence\, 66047\, United States
ATTACH;FMTTYPE=image/png:https://flatks.org/wp-content/uploads/2022/06/bike-ride-logo600x400.png
END:VEVENT
BEGIN:VEVENT
DTSTART;TZID=America/Chicago:20220622T181500
DTEND;TZID=America/Chicago:20220622T193000
DTSTAMP:20260425T061132
CREATED:20220605T202922Z
LAST-MODIFIED:20220609T221403Z
UID:1470-1655921700-1655926200@flatks.org
SUMMARY:Expanding Our Local Trail Systems
DESCRIPTION:Speakers:\n\nMark Hecker\, Lawrence Parks and Recreation — Current and upcoming trail-building plans.\nGlenn Rodden\, Baldwin City Administrator — Plans for Southward Expansion of the Maple Leaf Trail (to connect to the Prairie Spirit and Flint Hills Trails).\nKent Williams\,  Kaw River Commons — Information about a vision of an interconnected trail system in downtown Lawrence\, creating new connections to the Kansas River.\nChris Tilden\, LiveWell Douglas County and FLAT board member — Promoting trail use among people of all abilities on our local trails.\n\nPick up a copy of the new Lawrence Loop Accessible Routes brochure and map. \nBrowse information tables from local area trail organizations. \nSponsored by LiveWell Douglas County and FLAT \nLiveWell Douglas County is a local health and wellness coalition with a long history of community advocacy and leadership on issues of active living\, food security\, tobacco prevention and control\, and promoting policy\, systems\, and environment changes to promote healthy\, active lives among all Douglas County residents. LiveWell has been an active partner with FLAT in promoting development of a strong system of local trails.
URL:https://flatks.org/event/expanding-our-local-trail-system/
LOCATION:Lawrence Public Library\, 707 Vermont St.\, Lawrence\, KS\, 66044\, United States
ATTACH;FMTTYPE=image/jpeg:https://flatks.org/wp-content/uploads/2022/06/graphic3-updated.jpg
END:VEVENT
BEGIN:VEVENT
DTSTART;TZID=America/Chicago:20220429T170000
DTEND;TZID=America/Chicago:20220429T200000
DTSTAMP:20260425T061132
CREATED:20220306T175637Z
LAST-MODIFIED:20220429T180526Z
UID:1108-1651251600-1651262400@flatks.org
SUMMARY:EVENT CANCELED! Trails the Connect Us
DESCRIPTION:Due to the threat of high winds and potential storms this evening Free State\, who was hosting the event\, unfortunately made the tough decision to cancel this event. A hearty thanks to all the organizations and vendors that had signed on\, we look forward to getting the band back together in the future! \n\nJoin us April 29\, 5:00-8:00pm — for the family-friendly Trails that Connect Us. \nCome to the Free State Brewing Bottling Facility on the Burroughs Creek Trail Loop section\, located at 1927 Moodie Rd.\, Lawrence. \nEnjoy a beer\, brewery tour\, trail information\, food trucks\, kid-friendly activities and more. \nMusic: \n\nSignal Ridge\, Lawrence’s own bluegrass band\n\nFood Truck Fare: \n\nThe Burger Bus\nJB’s Tacos\nKona Ice\n\nFree bicycle valet parking \n\nEnjoy a free beer sample ticket if you ride and park your bike at the event!\n\nLearn about area trails from Friends of Lawrence Area Trails (FLAT) and other local organizations. \nEnter the FLAT lucky chance raffle for trail themed gift baskets. Pick up a FLAT tee-shirt for a donation of $10 or more. \n\nRaffle proceeds and donations help build more local trails\, a community of trail lovers\, and a strong voice for public funding of trails.\n\nInformation tables: \n\nSunflower Outdoor & Bike Shop\nLawrence Bike Club\nLawrence Mountain Bike Club\nLawrence UnChained Bicycle Coop\nGet Outdoors Kansas\nJayhawk Audubon Society\nKansas Biological Survey\n38 North Adventure Fest\nBusker Fest\nFriends of Clinton State Park\nGeorge Frazier Wild Places\nGrassland Heritage Foundation\nKansas Land Trust\nKanza Rail-Trails Conservancy\nKaw River Commons\nKaw Valley Bluebird Society\nKansas Trails Council\nKU Natural History Museum\nLawrence Parks & Recreation\nLawrence Public Library\nLawrence Trail Hawks\nLeague of Women Voters\nLiveWell Douglas County\nLove Grub Dog Food\nMonarch Watch\nPawsh Wash\nSanta Fe Trail: w/ Rex Buchanan & Dave Kendall\nTopeka Community Cycle Project\nUniversity Press of Kansas\nWatkins Museum of History\nWildDouglasCounty\n\nBiking\, walking\, or wheeling encouraged! Dogs on leashes are welcome outside. \nLucky Chance Drawing Raffle\nShow your support of Lawrence area trails and FLAT by bidding on these awesome raffle baskets. \nThe drawing will be Friday\, April 29th at the Trails that Connect Us event. YOU DO NOT NEED TO BE PRESENT TO WIN! \nPurchase tickets:  $5 for 1 ticket | $10 for 5 tickets | $20 for 10 tickets \nFamily Trail Adventure Pack\nBiker’s Excursion Pack\nPooch Lover’s Pack\nRunner’s Training Pack\n  \n  \n\nMusic\nSignal Ridge\nFood Trucks\nCheeseburgers from The Burger Bus\nTacos from JB’s Tacos\nKona Ice
URL:https://flatks.org/event/trails-the-connect-us-an-open-house/
LOCATION:Free State Brewing Company Bottling Facility\, 1927 Moodie Road\, Lawrence\, KS\, 66046\, United States
ATTACH;FMTTYPE=image/jpeg:https://flatks.org/wp-content/uploads/2022/03/Wordpress-Event-full-date.jpg
END:VEVENT
BEGIN:VEVENT
DTSTART;VALUE=DATE:20200429
DTEND;VALUE=DATE:20200506
DTSTAMP:20260425T061132
CREATED:20200430T014124Z
LAST-MODIFIED:20200716T181436Z
UID:89-1588118400-1588723199@flatks.org
SUMMARY:FLAT Month of Creativity - Kid Friendly
DESCRIPTION:Celebrate our trails as we keep our physical distance.\n–Write poems or stories about our favorite trails.\n–Create animals and fantastic beasts we see along our trails (or wish we saw)! \nAnyone big or small\, young or well aged can play. \nHOW TO PLAY \nChoose a trail or section of trail (like part of the Loop) and visit it. Are there particular creatures you see? If you close your eyes are there creatures you hear or smell! Does the trail have a personality\, is it peaceful or boisterous or calming or – you name it. \n1) Then make a picture or sculpture of the creature you saw or wish you would see (let your imagination soar) on that trail. You can make a sculpture out of cardboard\, papier mache\, clay\, sticks and string/vines. Whatever you have around\, no need to go buy anything! \n2) Write a poem about the trail. Haiku\, limericks or Shakespearean sonnets are some possibilities. \nThen SHARE a picture of your creature and your poem with us here or on FLAT’s Instagram. \nHere are some links for how to make papier mache\, create sculptures from cardboard and other items.\nhttps://www.thesprucecrafts.com/paper-mache-paste-recipes-1245287\nhttps://www.wikihow.com/Make-a-Sculpture https://lovelygreens.com/30-garden-projects-using-sticks-twigs/ \nOnce we can start hanging out together again\, we’ll share the images and poems at events. Next year\, at the Trails That Connect Us event we’ll display your creations. \nKeep an eye on this page for future updates. \nSchedule: On your own\, when you need to get outside.
URL:https://flatks.org/event/flat-month-of-creativity-kid-friendly/
LOCATION:Trails of Douglas County and your own home
ATTACH;FMTTYPE=image/jpeg:https://flatks.org/wp-content/uploads/2020/04/event-1-photo.jpg
END:VEVENT
END:VCALENDAR