BEGIN:VCALENDAR
VERSION:2.0
PRODID:-//FLAT KS - ECPv6.15.20//NONSGML v1.0//EN
CALSCALE:GREGORIAN
METHOD:PUBLISH
X-ORIGINAL-URL:https://flatks.org
X-WR-CALDESC:Events for FLAT KS
REFRESH-INTERVAL;VALUE=DURATION:PT1H
X-Robots-Tag:noindex
X-PUBLISHED-TTL:PT1H
BEGIN:VTIMEZONE
TZID:America/Chicago
BEGIN:DAYLIGHT
TZOFFSETFROM:-0600
TZOFFSETTO:-0500
TZNAME:CDT
DTSTART:20220313T080000
END:DAYLIGHT
BEGIN:STANDARD
TZOFFSETFROM:-0500
TZOFFSETTO:-0600
TZNAME:CST
DTSTART:20221106T070000
END:STANDARD
BEGIN:DAYLIGHT
TZOFFSETFROM:-0600
TZOFFSETTO:-0500
TZNAME:CDT
DTSTART:20230312T080000
END:DAYLIGHT
BEGIN:STANDARD
TZOFFSETFROM:-0500
TZOFFSETTO:-0600
TZNAME:CST
DTSTART:20231105T070000
END:STANDARD
BEGIN:DAYLIGHT
TZOFFSETFROM:-0600
TZOFFSETTO:-0500
TZNAME:CDT
DTSTART:20240310T080000
END:DAYLIGHT
BEGIN:STANDARD
TZOFFSETFROM:-0500
TZOFFSETTO:-0600
TZNAME:CST
DTSTART:20241103T070000
END:STANDARD
END:VTIMEZONE
BEGIN:VEVENT
DTSTART;TZID=America/Chicago:20230506T100000
DTEND;TZID=America/Chicago:20230506T120000
DTSTAMP:20260425T211510
CREATED:20230420T172522Z
LAST-MODIFIED:20230420T172725Z
UID:2096-1683367200-1683374400@flatks.org
SUMMARY:May Day Hey Day
DESCRIPTION:Van Go’s family friendly\, go-at-your-own-pace community walk\, ride\, roll\, and run along the Lawrence Loop is back! After cruising the Loop\, join us for a party from 10am-Noon in the Van Go parking lot\, complete with DJ Approach\, Cellar Door bagels and coffee\, a craft cocktail courtesy of Bon Bon Cocktail Club\, The Last Carnival’s Ruckus Wagon\, a succulent planting station a la Jungle House\, photo booth\, and more!
URL:https://flatks.org/event/may-day-hey-day/
LOCATION:Van Go\, 715 New Jersey\, Lawrence\, KS\, United States
ATTACH;FMTTYPE=image/jpeg:https://flatks.org/wp-content/uploads/2023/04/MDHD-Infographic-2.jpg
END:VEVENT
END:VCALENDAR