BEGIN:VCALENDAR
VERSION:2.0
PRODID:-//FLAT KS - ECPv6.15.20//NONSGML v1.0//EN
CALSCALE:GREGORIAN
METHOD:PUBLISH
X-WR-CALNAME:FLAT KS
X-ORIGINAL-URL:https://flatks.org
X-WR-CALDESC:Events for FLAT KS
REFRESH-INTERVAL;VALUE=DURATION:PT1H
X-Robots-Tag:noindex
X-PUBLISHED-TTL:PT1H
BEGIN:VTIMEZONE
TZID:America/Chicago
BEGIN:DAYLIGHT
TZOFFSETFROM:-0600
TZOFFSETTO:-0500
TZNAME:CDT
DTSTART:20230312T080000
END:DAYLIGHT
BEGIN:STANDARD
TZOFFSETFROM:-0500
TZOFFSETTO:-0600
TZNAME:CST
DTSTART:20231105T070000
END:STANDARD
BEGIN:DAYLIGHT
TZOFFSETFROM:-0600
TZOFFSETTO:-0500
TZNAME:CDT
DTSTART:20240310T080000
END:DAYLIGHT
BEGIN:STANDARD
TZOFFSETFROM:-0500
TZOFFSETTO:-0600
TZNAME:CST
DTSTART:20241103T070000
END:STANDARD
BEGIN:DAYLIGHT
TZOFFSETFROM:-0600
TZOFFSETTO:-0500
TZNAME:CDT
DTSTART:20250309T080000
END:DAYLIGHT
BEGIN:STANDARD
TZOFFSETFROM:-0500
TZOFFSETTO:-0600
TZNAME:CST
DTSTART:20251102T070000
END:STANDARD
END:VTIMEZONE
BEGIN:VEVENT
DTSTART;TZID=America/Chicago:20240117T163000
DTEND;TZID=America/Chicago:20240117T183000
DTSTAMP:20260425T071906
CREATED:20240111T202657Z
LAST-MODIFIED:20240111T202834Z
UID:2650-1705509000-1705516200@flatks.org
SUMMARY:Public Open House #2 — 7th Street to Constant Park Plans
DESCRIPTION:Please plan come to provide your feedback about plans for The Lawrence Loop Segment from 7th Street to Constant Park.\nThe Lawrence Loop is key to the City of Lawrence’s unmistakable identity. Sections currently complete already provide residents and visitors a way to explore and experience Lawrence through walking\, running\, biking\, and rolling. The section of the Loop from 7th Street to Constant Park is one of the remaining incomplete sections\, located adjacent to\, yet disconnected from\, downtown Lawrence\, and is an area rich with history. It is also one of the more complicated sections\, with potential railroad crossings\, private property\, and busy road crossings. When fully complete\, the Loop will provide a continuous urban greenway of over 22 miles around the City.\nThe City of Lawrence is exploring funding opportunities to support the final design and construction of the Loop’s missing portion. Throughout the fall of 2023 and into early 2024\, the City will conduct a community engagement process\, building off successful prior community engagement\, to support a successful RAISE grant application.\nProject website: https://lawrenceks.org/…/lawrence-loop-7th-street-to…/\n 
URL:https://flatks.org/event/public-open-house-2-7th-street-to-constant-park-plans/
LOCATION:Lawrence Public Library\, 707 Vermont St.\, Lawrence\, KS\, 66044\, United States
ATTACH;FMTTYPE=image/png:https://flatks.org/wp-content/uploads/2024/01/Kaw-River-Commons-1100x684-1.png
END:VEVENT
END:VCALENDAR