BEGIN:VCALENDAR
VERSION:2.0
PRODID:-//FLAT KS - ECPv6.15.20//NONSGML v1.0//EN
CALSCALE:GREGORIAN
METHOD:PUBLISH
X-ORIGINAL-URL:https://flatks.org
X-WR-CALDESC:Events for FLAT KS
REFRESH-INTERVAL;VALUE=DURATION:PT1H
X-Robots-Tag:noindex
X-PUBLISHED-TTL:PT1H
BEGIN:VTIMEZONE
TZID:America/Chicago
BEGIN:DAYLIGHT
TZOFFSETFROM:-0600
TZOFFSETTO:-0500
TZNAME:CDT
DTSTART:20230312T080000
END:DAYLIGHT
BEGIN:STANDARD
TZOFFSETFROM:-0500
TZOFFSETTO:-0600
TZNAME:CST
DTSTART:20231105T070000
END:STANDARD
BEGIN:DAYLIGHT
TZOFFSETFROM:-0600
TZOFFSETTO:-0500
TZNAME:CDT
DTSTART:20240310T080000
END:DAYLIGHT
BEGIN:STANDARD
TZOFFSETFROM:-0500
TZOFFSETTO:-0600
TZNAME:CST
DTSTART:20241103T070000
END:STANDARD
BEGIN:DAYLIGHT
TZOFFSETFROM:-0600
TZOFFSETTO:-0500
TZNAME:CDT
DTSTART:20250309T080000
END:DAYLIGHT
BEGIN:STANDARD
TZOFFSETFROM:-0500
TZOFFSETTO:-0600
TZNAME:CST
DTSTART:20251102T070000
END:STANDARD
END:VTIMEZONE
BEGIN:VEVENT
DTSTART;TZID=America/Chicago:20240608T083000
DTEND;TZID=America/Chicago:20240608T110000
DTSTAMP:20260424T225837
CREATED:20240525T195652Z
LAST-MODIFIED:20240525T200051Z
UID:2840-1717835400-1717844400@flatks.org
SUMMARY:Bicycle Resource Fair
DESCRIPTION:Join us for a fun family event featuring local businesses and organizations. \nBicycle Resource Fair \nStop by for demos and maintenance tips\, activities for kids\, information booths and samples to fuel your ride. And\, tune in to KJHK 90.7 FM\, broadcasting live from the event!
URL:https://flatks.org/event/bicycle-resource-fair/
LOCATION:The Merc Co+op\, 901 Iowa St.\, Lawrence\, KS\, United States
ATTACH;FMTTYPE=image/jpeg:https://flatks.org/wp-content/uploads/2024/05/cooperiders_bike_resource_fair.jpg
ORGANIZER;CN="Merc Co+Op":MAILTO:ownerservices@themerc.coop
END:VEVENT
BEGIN:VEVENT
DTSTART;TZID=America/Chicago:20240615T080000
DTEND;TZID=America/Chicago:20240615T170000
DTSTAMP:20260424T225837
CREATED:20240416T152927Z
LAST-MODIFIED:20240416T153025Z
UID:2751-1718438400-1718470800@flatks.org
SUMMARY:Juneteenth '24
DESCRIPTION:Juneteenth is a day to commemorate freedom\, celebrate African American culture\, and reflect on our journey toward equality. Let’s come together to honor this important moment in history. \nLet’s make Juneteenth 2024 a celebration to remember! \nBe sure to drop by FLAT’s table at the event for local area trail information.
URL:https://flatks.org/event/juneteenth-24/
LOCATION:South Park\, 1141 Massachusetts S\, Lawrence\, 66045\, United States
ATTACH;FMTTYPE=image/jpeg:https://flatks.org/wp-content/uploads/2024/04/juneteeth-wp-event.jpg
END:VEVENT
END:VCALENDAR