BEGIN:VCALENDAR
VERSION:2.0
PRODID:-//FLAT KS - ECPv6.15.20//NONSGML v1.0//EN
CALSCALE:GREGORIAN
METHOD:PUBLISH
X-ORIGINAL-URL:https://flatks.org
X-WR-CALDESC:Events for FLAT KS
REFRESH-INTERVAL;VALUE=DURATION:PT1H
X-Robots-Tag:noindex
X-PUBLISHED-TTL:PT1H
BEGIN:VTIMEZONE
TZID:America/Chicago
BEGIN:DAYLIGHT
TZOFFSETFROM:-0600
TZOFFSETTO:-0500
TZNAME:CDT
DTSTART:20230312T080000
END:DAYLIGHT
BEGIN:STANDARD
TZOFFSETFROM:-0500
TZOFFSETTO:-0600
TZNAME:CST
DTSTART:20231105T070000
END:STANDARD
BEGIN:DAYLIGHT
TZOFFSETFROM:-0600
TZOFFSETTO:-0500
TZNAME:CDT
DTSTART:20240310T080000
END:DAYLIGHT
BEGIN:STANDARD
TZOFFSETFROM:-0500
TZOFFSETTO:-0600
TZNAME:CST
DTSTART:20241103T070000
END:STANDARD
BEGIN:DAYLIGHT
TZOFFSETFROM:-0600
TZOFFSETTO:-0500
TZNAME:CDT
DTSTART:20250309T080000
END:DAYLIGHT
BEGIN:STANDARD
TZOFFSETFROM:-0500
TZOFFSETTO:-0600
TZNAME:CST
DTSTART:20251102T070000
END:STANDARD
END:VTIMEZONE
BEGIN:VEVENT
DTSTART;TZID=America/Chicago:20240721T083000
DTEND;TZID=America/Chicago:20240721T110000
DTSTAMP:20260424T224243
CREATED:20240420T133005Z
LAST-MODIFIED:20240721T121352Z
UID:2769-1721550600-1721559600@flatks.org
SUMMARY:Community Bike Ride
DESCRIPTION:The Lawrence\, KS community bike ride happens each year on the 3rd Saturday in July. We start at 8:30am at the Rotary Arboretum and have lots of options for everyone. \n\nMark your calendars\, save the date\, and make plans now to attend the 2024 Lawrence Community Bike Ride on Saturday\, July 20th from 8:30 – 11:00am. \n\nFOUR rides to choose from (or skip the group and ride anytime)\nFREE Helmets with complementary fittings\nBright Colored Ride Shirts (while supplies last)\n\nAll rides and festivities begin at the Lawrence Rotary Arboretum located at 27th and Wakarusa by the YSC Soccer Fields. \n(In the event of rain\, the event will be held Sunday\, July 21)
URL:https://flatks.org/event/community-bike-ride/
LOCATION:Lawrence Rotary Arboretum Trailhead\, 27th and Waukarusa\, Lawrence\, 66047\, United States
ATTACH;FMTTYPE=image/jpeg:https://flatks.org/wp-content/uploads/2024/04/bike-ride-logo.jpg
END:VEVENT
END:VCALENDAR