BEGIN:VCALENDAR
VERSION:2.0
PRODID:-//FLAT KS - ECPv6.15.20//NONSGML v1.0//EN
CALSCALE:GREGORIAN
METHOD:PUBLISH
X-WR-CALNAME:FLAT KS
X-ORIGINAL-URL:https://flatks.org
X-WR-CALDESC:Events for FLAT KS
REFRESH-INTERVAL;VALUE=DURATION:PT1H
X-Robots-Tag:noindex
X-PUBLISHED-TTL:PT1H
BEGIN:VTIMEZONE
TZID:America/Chicago
BEGIN:DAYLIGHT
TZOFFSETFROM:-0600
TZOFFSETTO:-0500
TZNAME:CDT
DTSTART:20230312T080000
END:DAYLIGHT
BEGIN:STANDARD
TZOFFSETFROM:-0500
TZOFFSETTO:-0600
TZNAME:CST
DTSTART:20231105T070000
END:STANDARD
BEGIN:DAYLIGHT
TZOFFSETFROM:-0600
TZOFFSETTO:-0500
TZNAME:CDT
DTSTART:20240310T080000
END:DAYLIGHT
BEGIN:STANDARD
TZOFFSETFROM:-0500
TZOFFSETTO:-0600
TZNAME:CST
DTSTART:20241103T070000
END:STANDARD
BEGIN:DAYLIGHT
TZOFFSETFROM:-0600
TZOFFSETTO:-0500
TZNAME:CDT
DTSTART:20250309T080000
END:DAYLIGHT
BEGIN:STANDARD
TZOFFSETFROM:-0500
TZOFFSETTO:-0600
TZNAME:CST
DTSTART:20251102T070000
END:STANDARD
END:VTIMEZONE
BEGIN:VEVENT
DTSTART;TZID=America/Chicago:20241103T150000
DTEND;TZID=America/Chicago:20241103T180000
DTSTAMP:20260424T133918
CREATED:20240420T133317Z
LAST-MODIFIED:20240420T133317Z
UID:2775-1730646000-1730656800@flatks.org
SUMMARY:Beers of the Kaw
DESCRIPTION:Beer of the Kaw is a beer tasting of the breweries in the Kansas River watershed\, which is 61\,000 square miles!  We use beer and water to educate about the watershed.  Come join us to learn a little\, taste a little beer\, and support our work for the Kansas River!
URL:https://flatks.org/event/beers-of-the-kaw-2/
LOCATION:Abe & Jake’s Landing\, 8 E 6th St\, Lawrence\, KS\, 66044\, United States
ATTACH;FMTTYPE=image/jpeg:https://flatks.org/wp-content/uploads/2024/04/beers-2022.jpg
END:VEVENT
END:VCALENDAR