BEGIN:VCALENDAR
VERSION:2.0
PRODID:-//FLAT KS - ECPv6.15.20//NONSGML v1.0//EN
CALSCALE:GREGORIAN
METHOD:PUBLISH
X-WR-CALNAME:FLAT KS
X-ORIGINAL-URL:https://flatks.org
X-WR-CALDESC:Events for FLAT KS
REFRESH-INTERVAL;VALUE=DURATION:PT1H
X-Robots-Tag:noindex
X-PUBLISHED-TTL:PT1H
BEGIN:VTIMEZONE
TZID:America/Chicago
BEGIN:DAYLIGHT
TZOFFSETFROM:-0600
TZOFFSETTO:-0500
TZNAME:CDT
DTSTART:20240310T080000
END:DAYLIGHT
BEGIN:STANDARD
TZOFFSETFROM:-0500
TZOFFSETTO:-0600
TZNAME:CST
DTSTART:20241103T070000
END:STANDARD
BEGIN:DAYLIGHT
TZOFFSETFROM:-0600
TZOFFSETTO:-0500
TZNAME:CDT
DTSTART:20250309T080000
END:DAYLIGHT
BEGIN:STANDARD
TZOFFSETFROM:-0500
TZOFFSETTO:-0600
TZNAME:CST
DTSTART:20251102T070000
END:STANDARD
BEGIN:DAYLIGHT
TZOFFSETFROM:-0600
TZOFFSETTO:-0500
TZNAME:CDT
DTSTART:20260308T080000
END:DAYLIGHT
BEGIN:STANDARD
TZOFFSETFROM:-0500
TZOFFSETTO:-0600
TZNAME:CST
DTSTART:20261101T070000
END:STANDARD
END:VTIMEZONE
BEGIN:VEVENT
DTSTART;TZID=America/Chicago:20251119T173000
DTEND;TZID=America/Chicago:20251119T193000
DTSTAMP:20260423T164304
CREATED:20251026T165004Z
LAST-MODIFIED:20251114T190931Z
UID:3391-1763573400-1763580600@flatks.org
SUMMARY:Cameron's Bluff Open House
DESCRIPTION:Come learn about an exciting new trail system that’s in the works!\nCameron’s Bluff Trails\n5:30–7:30 p.m.\nWed.\, November 19\nLawrence Public Library Auditorium \nBring your curiosity\, questions and comments. \nThere will be a short presentation at 5:45 p.m. and table displays so you can learn more about the project. Representatives will be available to take comments and answer questions. \nFor more info visit the Cameron’s Bluff project page
URL:https://flatks.org/event/camerons-bluff-open-house/
LOCATION:Lawrence Public Library\, 707 Vermont St.\, Lawrence\, KS\, 66044\, United States
ATTACH;FMTTYPE=image/jpeg:https://flatks.org/wp-content/uploads/2025/10/WP.jpg
END:VEVENT
END:VCALENDAR